BEGIN:VCALENDAR
VERSION:2.0
PRODID:calendify.com
BEGIN:VEVENT
UID:calendify-session-d5yODAkpMJj
DTSTART:20220610T083000Z
SEQUENCE:0
TRANSP:OPAQUE
DTEND:20220610T090000Z
URL:https://calendify.com/session/d5yODAkpMJj
LOCATION:Stage 3
SUMMARY:Schlüsseltechnologien und Gesellschaftstrends – Wie Foresight in
  mögliche Zukünfte blickt
CLASS:PUBLIC
DESCRIPTION:https://calendify.com/session/d5yODAkpMJj
DTSTAMP:20260423T145506Z
CREATED:20220526T162949Z
LAST-MODIFIED:20220613T235204Z
END:VEVENT
END:VCALENDAR