BEGIN:VCALENDAR
VERSION:2.0
PRODID:calendify.com
BEGIN:VEVENT
UID:calendify-session-d5yODAn5MJj
DTSTART:20220724T190000Z
SEQUENCE:0
TRANSP:OPAQUE
DTEND:20220724T200000Z
URL:https://calendify.com/session/d5yODAn5MJj
LOCATION:DNA 🧬
SUMMARY:Chiptune on GameBoys
CLASS:PUBLIC
DESCRIPTION:https://calendify.com/session/d5yODAn5MJj
DTSTAMP:20260423T191452Z
CREATED:20220620T212435Z
LAST-MODIFIED:20220720T105032Z
END:VEVENT
END:VCALENDAR