BEGIN:VCALENDAR
VERSION:2.0
PRODID:calendify.com
BEGIN:VEVENT
UID:calendify-session-d5yODAv7MJj
DTSTART:20220610T124500Z
SEQUENCE:0
TRANSP:OPAQUE
DTEND:20220610T131500Z
URL:https://calendify.com/session/d5yODAv7MJj
LOCATION:Stage 5
SUMMARY:Naturwissenschaft 🤝  Gender Studies
CLASS:PUBLIC
DESCRIPTION:https://calendify.com/session/d5yODAv7MJj
DTSTAMP:20260423T155250Z
CREATED:20220526T162948Z
LAST-MODIFIED:20220613T235204Z
END:VEVENT
END:VCALENDAR