BEGIN:VCALENDAR
VERSION:2.0
PRODID:calendify.com
BEGIN:VEVENT
UID:calendify-session-d5yODAwJMJj
DTSTART:20220609T103000Z
SEQUENCE:0
TRANSP:OPAQUE
DTEND:20220609T113000Z
URL:https://calendify.com/session/d5yODAwJMJj
LOCATION:Stage 3
SUMMARY:What a wonderful world - Gründen für eine nachhaltige Entwicklung
CLASS:PUBLIC
DESCRIPTION:https://calendify.com/session/d5yODAwJMJj
DTSTAMP:20260424T052659Z
CREATED:20220531T124131Z
LAST-MODIFIED:20220613T235204Z
END:VEVENT
END:VCALENDAR