BEGIN:VCALENDAR
VERSION:2.0
PRODID:calendify.com
BEGIN:VEVENT
UID:calendify-session-d5yODRKpgJj
DTSTART:20211228T160000Z
SEQUENCE:0
TRANSP:OPAQUE
DTEND:20211228T173000Z
URL:https://calendify.com/session/d5yODRKpgJj
LOCATION:c-base
SUMMARY:Smart City Berlin – quo vadis?
CLASS:PUBLIC
DESCRIPTION:https://calendify.com/session/d5yODRKpgJj
DTSTAMP:20260420T133027Z
CREATED:20211221T215019Z
LAST-MODIFIED:20211230T225002Z
END:VEVENT
END:VCALENDAR