BEGIN:VCALENDAR
VERSION:2.0
PRODID:calendify.com
BEGIN:VEVENT
UID:calendify-session-d5yODRN7gJj
DTSTART:20210317T181500Z
SEQUENCE:0
TRANSP:OPAQUE
DTEND:20210317T191500Z
URL:https://calendify.com/session/d5yODRN7gJj
LOCATION:Zoom Room 8A
SUMMARY:Combating Implicit Biases In Technology Through Impact Storytelling
CLASS:PUBLIC
DESCRIPTION:https://calendify.com/session/d5yODRN7gJj
DTSTAMP:20260420T221138Z
CREATED:20210426T094605Z
LAST-MODIFIED:20210426T094929Z
END:VEVENT
END:VCALENDAR