BEGIN:VCALENDAR
VERSION:2.0
PRODID:calendify.com
BEGIN:VEVENT
UID:calendify-session-d5yODRVpgJj
DTSTART:20210308T160000Z
SEQUENCE:0
TRANSP:OPAQUE
DTEND:20210308T170000Z
URL:https://calendify.com/session/d5yODRVpgJj
LOCATION:Zoom Room 7B
SUMMARY:0.0146 seconds | Live interaction
CLASS:PUBLIC
DESCRIPTION:https://calendify.com/session/d5yODRVpgJj
DTSTAMP:20260422T084725Z
CREATED:20210426T094926Z
LAST-MODIFIED:20210426T094926Z
END:VEVENT
END:VCALENDAR