BEGIN:VCALENDAR
VERSION:2.0
PRODID:calendify.com
BEGIN:VEVENT
UID:calendify-session-d5yODRXmgJj
DTSTART:20210312T144500Z
SEQUENCE:0
TRANSP:OPAQUE
DTEND:20210312T154500Z
URL:https://calendify.com/session/d5yODRXmgJj
LOCATION:Zoom Room 4B
SUMMARY:publicdata.events - creating a pool of public calendar data for sta
 ying up to date with things
CLASS:PUBLIC
DESCRIPTION:https://calendify.com/session/d5yODRXmgJj
DTSTAMP:20260420T234235Z
CREATED:20210426T094928Z
LAST-MODIFIED:20210426T094928Z
END:VEVENT
END:VCALENDAR