BEGIN:VCALENDAR
VERSION:2.0
PRODID:calendify.com
BEGIN:VEVENT
UID:calendify-session-d5yODRlpgJj
DTSTART:20210308T133000Z
SEQUENCE:0
TRANSP:OPAQUE
URL:https://calendify.com/session/d5yODRlpgJj
LOCATION:Art and Media
SUMMARY:The Governance Game: a tool for scenario modelling opensource colla
 borations
CLASS:PUBLIC
DESCRIPTION:https://calendify.com/session/d5yODRlpgJj
DTSTAMP:20260424T202145Z
CREATED:20210426T094927Z
LAST-MODIFIED:20210426T094927Z
END:VEVENT
END:VCALENDAR