BEGIN:VCALENDAR
VERSION:2.0
PRODID:calendify.com
BEGIN:VEVENT
UID:calendify-session-d5yODRwZgJj
DTSTART:20220205T160000Z
SEQUENCE:0
TRANSP:OPAQUE
DTEND:20220205T164000Z
URL:https://calendify.com/session/d5yODRwZgJj
LOCATION:D.nim
SUMMARY:Nim Metaprogramming in the real world
CLASS:PUBLIC
DESCRIPTION:https://calendify.com/session/d5yODRwZgJj
DTSTAMP:20260420T081603Z
CREATED:20220120T214603Z
LAST-MODIFIED:20220206T225003Z
END:VEVENT
END:VCALENDAR