BEGIN:VCALENDAR
VERSION:2.0
PRODID:calendify.com
BEGIN:VEVENT
UID:calendify-session-d5yODRxJgJj
DTSTART:20211229T164500Z
SEQUENCE:0
TRANSP:OPAQUE
DTEND:20211229T185400Z
URL:https://calendify.com/session/d5yODRxJgJj
LOCATION:rC3 Lounge
SUMMARY:HOUNAH
CLASS:PUBLIC
DESCRIPTION:https://calendify.com/session/d5yODRxJgJj
DTSTAMP:20260421T012638Z
CREATED:20211227T102002Z
LAST-MODIFIED:20211230T225002Z
END:VEVENT
END:VCALENDAR