BEGIN:VCALENDAR
VERSION:2.0
PRODID:calendify.com
BEGIN:VEVENT
UID:calendify-session-d5yODX6mOJj
DTSTART:20200202T113000Z
SEQUENCE:0
TRANSP:OPAQUE
DTEND:20200202T115500Z
URL:https://calendify.com/session/d5yODX6mOJj
LOCATION:K.4.601
SUMMARY:A Component-based Environment for Android Apps
CLASS:PUBLIC
DESCRIPTION:https://calendify.com/session/d5yODX6mOJj
DTSTAMP:20260422T180554Z
CREATED:20200513T234735Z
LAST-MODIFIED:20210426T093310Z
END:VEVENT
END:VCALENDAR