BEGIN:VCALENDAR
VERSION:2.0
PRODID:calendify.com
BEGIN:VEVENT
UID:calendify-session-d5yODXEoOJj
DTSTART:20180511T110000Z
SEQUENCE:0
TRANSP:OPAQUE
DTEND:20180511T120000Z
URL:https://calendify.com/session/d5yODXEoOJj
LOCATION:ZKM_Vortragssaal
SUMMARY:How the Internet has changed being Intersex
CLASS:PUBLIC
DESCRIPTION:https://calendify.com/session/d5yODXEoOJj
DTSTAMP:20260422T031337Z
CREATED:20200513T011827Z
LAST-MODIFIED:20200513T011827Z
END:VEVENT
END:VCALENDAR