BEGIN:VCALENDAR
VERSION:2.0
PRODID:calendify.com
BEGIN:VEVENT
UID:calendify-session-d5yODXL5OJj
DTSTART:20200202T101000Z
SEQUENCE:0
TRANSP:OPAQUE
DTEND:20200202T103000Z
URL:https://calendify.com/session/d5yODXL5OJj
LOCATION:UD2.119
SUMMARY:LSP for Java and GraalVM Development
CLASS:PUBLIC
DESCRIPTION:https://calendify.com/session/d5yODXL5OJj
DTSTAMP:20260422T132720Z
CREATED:20200513T234735Z
LAST-MODIFIED:20210426T093310Z
END:VEVENT
END:VCALENDAR