BEGIN:VCALENDAR
VERSION:2.0
PRODID:calendify.com
BEGIN:VEVENT
UID:calendify-session-d5yODXb1OJj
DTSTART:20200201T115000Z
SEQUENCE:0
TRANSP:OPAQUE
DTEND:20200201T121000Z
URL:https://calendify.com/session/d5yODXb1OJj
LOCATION:H.1308 (Rolin)
SUMMARY:Analyzing DPDK applications with eBPF
CLASS:PUBLIC
DESCRIPTION:https://calendify.com/session/d5yODXb1OJj
DTSTAMP:20260420T233426Z
CREATED:20200513T234730Z
LAST-MODIFIED:20210426T093308Z
END:VEVENT
END:VCALENDAR