BEGIN:VCALENDAR
VERSION:2.0
PRODID:calendify.com
BEGIN:VEVENT
UID:calendify-session-d5yODXwJOJj
DTSTART:20200202T090000Z
SEQUENCE:0
TRANSP:OPAQUE
DTEND:20200202T100000Z
URL:https://calendify.com/session/d5yODXwJOJj
LOCATION:AW1.121
SUMMARY:OpenSMTPD over the clouds
CLASS:PUBLIC
DESCRIPTION:https://calendify.com/session/d5yODXwJOJj
DTSTAMP:20260422T001249Z
CREATED:20200513T234734Z
LAST-MODIFIED:20210426T093310Z
END:VEVENT
END:VCALENDAR