BEGIN:VCALENDAR
VERSION:2.0
PRODID:calendify.com
BEGIN:VEVENT
UID:calendify-session-d5yODr81gJj
DTSTART:20210207T155000Z
SEQUENCE:0
TRANSP:OPAQUE
DTEND:20210207T163000Z
URL:https://calendify.com/session/d5yODr81gJj
LOCATION:D.community
SUMMARY:Switching Open Source Communities: How to Stay Authentic to Yoursel
 f and Find Hidden Benefit In Your New Role
CLASS:PUBLIC
DESCRIPTION:https://calendify.com/session/d5yODr81gJj
DTSTAMP:20260424T004205Z
CREATED:20210111T170319Z
LAST-MODIFIED:20210208T224803Z
END:VEVENT
END:VCALENDAR