BEGIN:VCALENDAR
VERSION:2.0
PRODID:calendify.com
BEGIN:VEVENT
UID:calendify-session-d5yODr9ygJj
DTSTART:20210207T130000Z
SEQUENCE:0
TRANSP:OPAQUE
DTEND:20210207T132000Z
URL:https://calendify.com/session/d5yODr9ygJj
LOCATION:D.design
SUMMARY:Latest tech\, great! Accessibility\, not so much.
CLASS:PUBLIC
DESCRIPTION:https://calendify.com/session/d5yODr9ygJj
DTSTAMP:20260424T101225Z
CREATED:20210111T170320Z
LAST-MODIFIED:20210208T224804Z
END:VEVENT
END:VCALENDAR