BEGIN:VCALENDAR
VERSION:2.0
PRODID:calendify.com
BEGIN:VEVENT
UID:calendify-session-d5yODrbmgJj
DTSTART:20210207T150500Z
SEQUENCE:0
TRANSP:OPAQUE
DTEND:20210207T160500Z
URL:https://calendify.com/session/d5yODrbmgJj
LOCATION:D.blockchain
SUMMARY:Decentralization and Decency
CLASS:PUBLIC
DESCRIPTION:https://calendify.com/session/d5yODrbmgJj
DTSTAMP:20260423T150651Z
CREATED:20210119T190820Z
LAST-MODIFIED:20210208T224803Z
END:VEVENT
END:VCALENDAR