BEGIN:VCALENDAR
VERSION:2.0
PRODID:calendify.com
BEGIN:VEVENT
UID:calendify-session-d5yODrqmgJj
DTSTART:20201227T110000Z
SEQUENCE:0
TRANSP:OPAQUE
DTEND:20201227T111200Z
URL:https://calendify.com/session/d5yODrqmgJj
LOCATION:classics
SUMMARY:30c3 Opening
CLASS:PUBLIC
DESCRIPTION:https://calendify.com/session/d5yODrqmgJj
DTSTAMP:20260422T173426Z
CREATED:20201230T143302Z
LAST-MODIFIED:20211226T143335Z
END:VEVENT
END:VCALENDAR