BEGIN:VCALENDAR
VERSION:2.0
PRODID:calendify.com
BEGIN:VEVENT
UID:calendify-session-d5yODz27gJj
DTSTART:20231228T150000Z
SEQUENCE:0
TRANSP:OPAQUE
DTEND:20231228T160000Z
URL:https://calendify.com/session/d5yODz27gJj
LOCATION:Saal Zuse
SUMMARY:Weil „be excellent to each other” nicht reicht
CLASS:PUBLIC
DESCRIPTION:https://calendify.com/session/d5yODz27gJj
DTSTAMP:20260421T202946Z
CREATED:20231215T204820Z
LAST-MODIFIED:20240401T142932Z
END:VEVENT
END:VCALENDAR