BEGIN:VCALENDAR
VERSION:2.0
PRODID:calendify.com
BEGIN:VEVENT
UID:calendify-session-d5yODz6ygJj
DTSTART:20240531T111500Z
SEQUENCE:0
TRANSP:OPAQUE
DTEND:20240531T121500Z
URL:https://calendify.com/session/d5yODz6ygJj
LOCATION:ZKM Vortragssaal
SUMMARY:Wieso Typ 1 Diabetes so anders ist.
CLASS:PUBLIC
DESCRIPTION:https://calendify.com/session/d5yODz6ygJj
DTSTAMP:20260424T082743Z
CREATED:20240531T122740Z
LAST-MODIFIED:20240602T132303Z
END:VEVENT
END:VCALENDAR