BEGIN:VCALENDAR
VERSION:2.0
PRODID:calendify.com
BEGIN:VEVENT
UID:calendify-session-d5yODzAlgJj
DTSTART:20230815T100000Z
SEQUENCE:0
TRANSP:OPAQUE
DTEND:20230815T120000Z
URL:https://calendify.com/session/d5yODzAlgJj
LOCATION:Chill Lagune am Herzbergstich
SUMMARY:Chaos Computer Club Chill Camp Crew Allstars (Tag 1)
CLASS:PUBLIC
DESCRIPTION:https://calendify.com/session/d5yODzAlgJj
DTSTAMP:20260420T015544Z
CREATED:20230810T133007Z
LAST-MODIFIED:20240401T150800Z
END:VEVENT
END:VCALENDAR