BEGIN:VCALENDAR
VERSION:2.0
PRODID:calendify.com
BEGIN:VEVENT
UID:calendify-session-d5yODzJogJj
DTSTART:20231230T090000Z
SEQUENCE:0
TRANSP:OPAQUE
DTEND:20231230T094500Z
URL:https://calendify.com/session/d5yODzJogJj
LOCATION:Stage H
SUMMARY:Introduction to Magnetic Resonance Imaging and Image Reconstruction
  with BART
CLASS:PUBLIC
DESCRIPTION:https://calendify.com/session/d5yODzJogJj
DTSTAMP:20260423T031303Z
CREATED:20231229T120004Z
LAST-MODIFIED:20240401T142934Z
END:VEVENT
END:VCALENDAR