BEGIN:VCALENDAR
VERSION:2.0
PRODID:calendify.com
BEGIN:VEVENT
UID:calendify-session-d5yODzK5gJj
DTSTART:20231229T123000Z
SEQUENCE:0
TRANSP:OPAQUE
DTEND:20231229T131500Z
URL:https://calendify.com/session/d5yODzK5gJj
LOCATION:Stage H
SUMMARY:IT-Security-Unternehmen ohne Chefs
CLASS:PUBLIC
DESCRIPTION:https://calendify.com/session/d5yODzK5gJj
DTSTAMP:20260423T044515Z
CREATED:20231226T214002Z
LAST-MODIFIED:20240401T142932Z
END:VEVENT
END:VCALENDAR