BEGIN:VCALENDAR
VERSION:2.0
PRODID:calendify.com
BEGIN:VEVENT
UID:calendify-session-dnv4500LgR0
DTSTART:20210206T160000Z
SEQUENCE:0
TRANSP:OPAQUE
DTEND:20210206T162000Z
URL:https://calendify.com/session/dnv4500LgR0
LOCATION:D.design
SUMMARY:Mentoring designers in open Source Software. 
CLASS:PUBLIC
DESCRIPTION:https://calendify.com/session/dnv4500LgR0
DTSTAMP:20260423T110359Z
CREATED:20210111T170318Z
LAST-MODIFIED:20210208T224802Z
END:VEVENT
END:VCALENDAR