BEGIN:VCALENDAR
VERSION:2.0
PRODID:calendify.com
BEGIN:VEVENT
UID:calendify-session-dnv4506bgR0
DTSTART:20210317T133000Z
SEQUENCE:0
TRANSP:OPAQUE
DTEND:20210317T143000Z
URL:https://calendify.com/session/dnv4506bgR0
LOCATION:Zoom Room 2A
SUMMARY:Decentralised Data Unions for Others
CLASS:PUBLIC
DESCRIPTION:https://calendify.com/session/dnv4506bgR0
DTSTAMP:20260420T203030Z
CREATED:20210426T094604Z
LAST-MODIFIED:20210426T094929Z
END:VEVENT
END:VCALENDAR