BEGIN:VCALENDAR
VERSION:2.0
PRODID:calendify.com
BEGIN:VEVENT
UID:calendify-session-dnv450AwgR0
DTSTART:20210313T100500Z
SEQUENCE:0
TRANSP:OPAQUE
DTEND:20210313T110500Z
URL:https://calendify.com/session/dnv450AwgR0
LOCATION:Zoom Room 1A
SUMMARY:Forgotten Narratives in AI: Africa’s journey to AI future
CLASS:PUBLIC
DESCRIPTION:https://calendify.com/session/dnv450AwgR0
DTSTAMP:20260424T002249Z
CREATED:20210426T094603Z
LAST-MODIFIED:20210426T094928Z
END:VEVENT
END:VCALENDAR