BEGIN:VCALENDAR
VERSION:2.0
PRODID:calendify.com
BEGIN:VEVENT
UID:calendify-session-dnv450EVgR0
DTSTART:20210206T124500Z
SEQUENCE:0
TRANSP:OPAQUE
DTEND:20210206T132500Z
URL:https://calendify.com/session/dnv450EVgR0
LOCATION:D.microkernel
SUMMARY:Hardware acceleration for unikernels
CLASS:PUBLIC
DESCRIPTION:https://calendify.com/session/dnv450EVgR0
DTSTAMP:20260419T182214Z
CREATED:20210111T170319Z
LAST-MODIFIED:20210208T224802Z
END:VEVENT
END:VCALENDAR