BEGIN:VCALENDAR
VERSION:2.0
PRODID:calendify.com
BEGIN:VEVENT
UID:calendify-session-dnv450LLgR0
DTSTART:20210206T090000Z
SEQUENCE:0
TRANSP:OPAQUE
DTEND:20210206T093000Z
URL:https://calendify.com/session/dnv450LLgR0
LOCATION:D.hpc
SUMMARY:Accelerating HPC applications with Out-of-Order Commit Processors
CLASS:PUBLIC
DESCRIPTION:https://calendify.com/session/dnv450LLgR0
DTSTAMP:20260423T191343Z
CREATED:20210111T170318Z
LAST-MODIFIED:20210208T224802Z
END:VEVENT
END:VCALENDAR