BEGIN:VCALENDAR
VERSION:2.0
PRODID:calendify.com
BEGIN:VEVENT
UID:calendify-session-dnv450QwgR0
DTSTART:20210207T133000Z
SEQUENCE:0
TRANSP:OPAQUE
DTEND:20210207T140000Z
URL:https://calendify.com/session/dnv450QwgR0
LOCATION:D.embedded
SUMMARY:Safety and open source\, oh my?
CLASS:PUBLIC
DESCRIPTION:https://calendify.com/session/dnv450QwgR0
DTSTAMP:20260423T161329Z
CREATED:20210111T170320Z
LAST-MODIFIED:20210208T224804Z
END:VEVENT
END:VCALENDAR