BEGIN:VCALENDAR
VERSION:2.0
PRODID:calendify.com
BEGIN:VEVENT
UID:calendify-session-dnv450k9gR0
DTSTART:20210207T143500Z
SEQUENCE:0
TRANSP:OPAQUE
DTEND:20210207T150500Z
URL:https://calendify.com/session/dnv450k9gR0
LOCATION:D.web.performance
SUMMARY:Analysing QUIC and HTTP/3 traffic with qlog and qvis
CLASS:PUBLIC
DESCRIPTION:https://calendify.com/session/dnv450k9gR0
DTSTAMP:20260419T225446Z
CREATED:20210201T190824Z
LAST-MODIFIED:20210208T224804Z
END:VEVENT
END:VCALENDAR