BEGIN:VCALENDAR
VERSION:2.0
PRODID:calendify.com
BEGIN:VEVENT
UID:calendify-session-dnv450kkgR0
DTSTART:20210207T090000Z
SEQUENCE:0
TRANSP:OPAQUE
DTEND:20210207T094000Z
URL:https://calendify.com/session/dnv450kkgR0
LOCATION:D.openjdk
SUMMARY:Cross-Platform User Interface Development in Java with OpenJFX
CLASS:PUBLIC
DESCRIPTION:https://calendify.com/session/dnv450kkgR0
DTSTAMP:20260423T162329Z
CREATED:20210201T190824Z
LAST-MODIFIED:20210208T224804Z
END:VEVENT
END:VCALENDAR