BEGIN:VCALENDAR
VERSION:2.0
PRODID:calendify.com
BEGIN:VEVENT
UID:calendify-session-dnv450pwgR0
DTSTART:20210207T121000Z
SEQUENCE:0
TRANSP:OPAQUE
DTEND:20210207T124000Z
URL:https://calendify.com/session/dnv450pwgR0
LOCATION:D.kotlin
SUMMARY:How to write your own MVI library and why you shouldn't
CLASS:PUBLIC
DESCRIPTION:https://calendify.com/session/dnv450pwgR0
DTSTAMP:20260423T161349Z
CREATED:20210111T170320Z
LAST-MODIFIED:20210208T224804Z
END:VEVENT
END:VCALENDAR