BEGIN:VCALENDAR
VERSION:2.0
PRODID:calendify.com
BEGIN:VEVENT
UID:calendify-session-dnv450qkgR0
DTSTART:20210206T120000Z
SEQUENCE:0
TRANSP:OPAQUE
DTEND:20210206T124500Z
URL:https://calendify.com/session/dnv450qkgR0
LOCATION:S.checkmk
SUMMARY:Technical Demo (DevOps)
CLASS:PUBLIC
DESCRIPTION:https://calendify.com/session/dnv450qkgR0
DTSTAMP:20260419T235454Z
CREATED:20210130T190821Z
LAST-MODIFIED:20210208T224803Z
END:VEVENT
END:VCALENDAR