BEGIN:VCALENDAR
VERSION:2.0
PRODID:calendify.com
BEGIN:VEVENT
UID:calendify-session-dnv4519V4R0
DTSTART:20191227T175000Z
SEQUENCE:0
TRANSP:OPAQUE
DTEND:20191227T185000Z
URL:https://calendify.com/session/dnv4519V4R0
LOCATION:Ada
SUMMARY:Geheimdienstliche Massenüberwachung vs. Menschenrechte
CLASS:PUBLIC
DESCRIPTION:https://calendify.com/session/dnv4519V4R0
DTSTAMP:20260421T214857Z
CREATED:20200429T014025Z
LAST-MODIFIED:20200429T014025Z
END:VEVENT
END:VCALENDAR