BEGIN:VCALENDAR
VERSION:2.0
PRODID:calendify.com
BEGIN:VEVENT
UID:calendify-session-dnv45B2VOR0
DTSTART:20180511T140000Z
SEQUENCE:0
TRANSP:OPAQUE
DTEND:20180511T150000Z
URL:https://calendify.com/session/dnv45B2VOR0
LOCATION:ZKM_AckerSpace
SUMMARY:The Death of Localhost - Hands-on Cloud Development with node.js\, 
 PHP\, python or your favorite language..
CLASS:PUBLIC
DESCRIPTION:https://calendify.com/session/dnv45B2VOR0
DTSTAMP:20260422T014530Z
CREATED:20200513T011828Z
LAST-MODIFIED:20200513T011828Z
END:VEVENT
END:VCALENDAR