BEGIN:VCALENDAR
VERSION:2.0
PRODID:calendify.com
BEGIN:VEVENT
UID:calendify-session-dnv45B51OR0
DTSTART:20200202T093000Z
SEQUENCE:0
TRANSP:OPAQUE
DTEND:20200202T095000Z
URL:https://calendify.com/session/dnv45B51OR0
LOCATION:K.3.401
SUMMARY:rustdoc: beyond documentation
CLASS:PUBLIC
DESCRIPTION:https://calendify.com/session/dnv45B51OR0
DTSTAMP:20260424T002020Z
CREATED:20200513T234735Z
LAST-MODIFIED:20210426T093310Z
END:VEVENT
END:VCALENDAR