BEGIN:VCALENDAR
VERSION:2.0
PRODID:calendify.com
BEGIN:VEVENT
UID:calendify-session-dnv45BjoOR0
DTSTART:20190601T141500Z
SEQUENCE:0
TRANSP:OPAQUE
DTEND:20190601T144500Z
URL:https://calendify.com/session/dnv45BjoOR0
LOCATION:ZKM_OpenHUB
SUMMARY:BADPDF – Stealing Windows Credentials via PDF Files
CLASS:PUBLIC
DESCRIPTION:https://calendify.com/session/dnv45BjoOR0
DTSTAMP:20260422T021927Z
CREATED:20200509T115119Z
LAST-MODIFIED:20200509T115119Z
END:VEVENT
END:VCALENDAR