BEGIN:VCALENDAR
VERSION:2.0
PRODID:calendify.com
BEGIN:VEVENT
UID:calendify-session-dnv45BrDOR0
DTSTART:20200201T100000Z
SEQUENCE:0
TRANSP:OPAQUE
DTEND:20200201T102500Z
URL:https://calendify.com/session/dnv45BrDOR0
LOCATION:UB2.252A (Lameere)
SUMMARY:Boosting Python with Rust
CLASS:PUBLIC
DESCRIPTION:https://calendify.com/session/dnv45BrDOR0
DTSTAMP:20260422T201543Z
CREATED:20200513T234730Z
LAST-MODIFIED:20210426T093308Z
END:VEVENT
END:VCALENDAR