BEGIN:VCALENDAR
VERSION:2.0
PRODID:calendify.com
BEGIN:VEVENT
UID:calendify-session-dnv45D0kgR0
DTSTART:20241227T191500Z
SEQUENCE:0
TRANSP:OPAQUE
DTEND:20241227T195500Z
URL:https://calendify.com/session/dnv45D0kgR0
LOCATION:Saal GLITCH
SUMMARY:EU's Digital Identity Systems - Reality Check and Techniques for Be
 tter Privacy
CLASS:PUBLIC
DESCRIPTION:https://calendify.com/session/dnv45D0kgR0
DTSTAMP:20260424T203210Z
CREATED:20241208T214807Z
LAST-MODIFIED:20250101T225002Z
END:VEVENT
END:VCALENDAR