BEGIN:VCALENDAR
VERSION:2.0
PRODID:calendify.com
BEGIN:VEVENT
UID:calendify-session-dnv45DjLgR0
DTSTART:20240921T110000Z
SEQUENCE:0
TRANSP:OPAQUE
DTEND:20240921T121500Z
URL:https://calendify.com/session/dnv45DjLgR0
LOCATION:Kabinett
SUMMARY:Risikomanagement für Politgruppen
CLASS:PUBLIC
DESCRIPTION:https://calendify.com/session/dnv45DjLgR0
DTSTAMP:20260420T201305Z
CREATED:20241208T220338Z
LAST-MODIFIED:20241208T220338Z
END:VEVENT
END:VCALENDAR