BEGIN:VCALENDAR
VERSION:2.0
PRODID:calendify.com
BEGIN:VEVENT
UID:calendify-session-dnv45E1D4R0
DTSTART:20220205T145500Z
SEQUENCE:0
TRANSP:OPAQUE
DTEND:20220205T155500Z
URL:https://calendify.com/session/dnv45E1D4R0
LOCATION:D.dart-flutter
SUMMARY:Architectural thinking on Flutter State Management
CLASS:PUBLIC
DESCRIPTION:https://calendify.com/session/dnv45E1D4R0
DTSTAMP:20260422T164022Z
CREATED:20220203T235002Z
LAST-MODIFIED:20220206T225002Z
END:VEVENT
END:VCALENDAR