BEGIN:VCALENDAR
VERSION:2.0
PRODID:calendify.com
BEGIN:VEVENT
UID:calendify-session-dnv45E5o4R0
DTSTART:20220610T100000Z
SEQUENCE:0
TRANSP:OPAQUE
DTEND:20220610T110000Z
URL:https://calendify.com/session/dnv45E5o4R0
LOCATION:Home Base
SUMMARY:Business Ticket-Tour: Off Stage
CLASS:PUBLIC
DESCRIPTION:https://calendify.com/session/dnv45E5o4R0
DTSTAMP:20260424T002807Z
CREATED:20220609T184952Z
LAST-MODIFIED:20220613T235205Z
END:VEVENT
END:VCALENDAR