BEGIN:VCALENDAR
VERSION:2.0
PRODID:calendify.com
BEGIN:VEVENT
UID:calendify-session-dnv45E8J4R0
DTSTART:20220610T124500Z
SEQUENCE:0
TRANSP:OPAQUE
DTEND:20220610T131500Z
URL:https://calendify.com/session/dnv45E8J4R0
LOCATION:Get a Job-Area
SUMMARY:Die Bundesdruckerei: Unsere Tradition? Innovation!
CLASS:PUBLIC
DESCRIPTION:https://calendify.com/session/dnv45E8J4R0
DTSTAMP:20260423T134408Z
CREATED:20220526T162948Z
LAST-MODIFIED:20220613T235204Z
END:VEVENT
END:VCALENDAR