BEGIN:VCALENDAR
VERSION:2.0
PRODID:calendify.com
BEGIN:VEVENT
UID:calendify-session-dnv45E8b4R0
DTSTART:20220608T164500Z
SEQUENCE:0
TRANSP:OPAQUE
DTEND:20220608T173000Z
URL:https://calendify.com/session/dnv45E8b4R0
LOCATION:Lightning Box 2
SUMMARY:Wie kann ich Lobbying für gemeinwohlorientierte Netzpolitik machen
 ?
CLASS:PUBLIC
DESCRIPTION:https://calendify.com/session/dnv45E8b4R0
DTSTAMP:20260421T180917Z
CREATED:20220526T162948Z
LAST-MODIFIED:20220613T235204Z
END:VEVENT
END:VCALENDAR