BEGIN:VCALENDAR
VERSION:2.0
PRODID:calendify.com
BEGIN:VEVENT
UID:calendify-session-dnv45EDo4R0
DTSTART:20161229T201500Z
SEQUENCE:0
TRANSP:OPAQUE
DTEND:20161229T204500Z
URL:https://calendify.com/session/dnv45EDo4R0
LOCATION:Saal 6
SUMMARY: From Server Farm to Data Table
CLASS:PUBLIC
DESCRIPTION:https://calendify.com/session/dnv45EDo4R0
DTSTAMP:20260422T123121Z
CREATED:20220415T135303Z
LAST-MODIFIED:20220415T135303Z
END:VEVENT
END:VCALENDAR