BEGIN:VCALENDAR
VERSION:2.0
PRODID:calendify.com
BEGIN:VEVENT
UID:calendify-session-dnv45EJo4R0
DTSTART:20220611T145500Z
SEQUENCE:0
TRANSP:OPAQUE
DTEND:20220611T155500Z
URL:https://calendify.com/session/dnv45EJo4R0
LOCATION:.txt Stage
SUMMARY:Geschichten vom Krieg
CLASS:PUBLIC
DESCRIPTION:https://calendify.com/session/dnv45EJo4R0
DTSTAMP:20260420T140502Z
CREATED:20220605T230942Z
LAST-MODIFIED:20220613T235204Z
END:VEVENT
END:VCALENDAR