BEGIN:VCALENDAR
VERSION:2.0
PRODID:calendify.com
BEGIN:VEVENT
UID:calendify-session-dnv45ERL4R0
DTSTART:20220521T143000Z
SEQUENCE:0
TRANSP:OPAQUE
DTEND:20220521T153000Z
URL:https://calendify.com/session/dnv45ERL4R0
LOCATION:Vortragssaal
SUMMARY:The LCH\, CMS and the future of high energy Physics (and why we wou
 ld like your help)
CLASS:PUBLIC
DESCRIPTION:https://calendify.com/session/dnv45ERL4R0
DTSTAMP:20260422T155907Z
CREATED:20220502T005753Z
LAST-MODIFIED:20220521T215002Z
END:VEVENT
END:VCALENDAR