BEGIN:VCALENDAR
VERSION:2.0
PRODID:calendify.com
BEGIN:VEVENT
UID:calendify-session-dnv45EX14R0
DTSTART:20220608T101500Z
SEQUENCE:0
TRANSP:OPAQUE
DTEND:20220608T103000Z
URL:https://calendify.com/session/dnv45EX14R0
LOCATION:Makerspace
SUMMARY:Welcome everybody at re:publica's Makerspace
CLASS:PUBLIC
DESCRIPTION:https://calendify.com/session/dnv45EX14R0
DTSTAMP:20260423T145214Z
CREATED:20220526T162949Z
LAST-MODIFIED:20220613T235204Z
END:VEVENT
END:VCALENDAR